BEGIN:VCALENDAR
VERSION:2.0
PRODID:-//Intand Corporation//Tandem//EN
METHOD:PUBLISH
BEGIN:VEVENT
DTSTAMP:20260421T104843Z
DTSTART:20230525T224500Z
DTEND:20230526T003000Z
TRANSP:TRANSPARENT
PRIORITY:0
SUMMARY:Beats p.m. building usage
LOCATION:Shuksan Cafeteria\, Shuksan Gym - Old\, Shuksan Library\, Shuksan
  Behind the Stage
DESCRIPTION:Schools:\nShuksan Middle School\n\nLocations:\nShuksan Cafeter
 ia\nShuksan Gym - Old\nShuksan Library\nShuksan Behind the Stage\n\n
URL;VALUE=URI:https://calendar.bellinghamschools.org/index.php?type=view&a
 ction=event&id=248730
CREATED:20221024T180144Z
LAST-MODIFIED:20221024T180612Z
UID:event-248730-bham@intand.com
END:VEVENT
END:VCALENDAR
