BEGIN:VCALENDAR
VERSION:2.0
PRODID:-//Intand Corporation//Tandem//EN
METHOD:PUBLISH
BEGIN:VEVENT
DTSTAMP:20260422T113145Z
DTSTART:20221103T010000Z
DTEND:20221103T030000Z
TRANSP:TRANSPARENT
PRIORITY:0
SUMMARY:Parent computer classes -library
LOCATION:Shuksan Cafeteria\, Shuksan Library Lab\, Shuksan Library
DESCRIPTION:Schools:\nShuksan Middle School\n\nLocations:\nShuksan Cafeter
 ia\nShuksan Library Lab\nShuksan Library\n\n
URL;VALUE=URI:https://calendar.bellinghamschools.org/index.php?type=view&a
 ction=event&id=245099
CREATED:20220921T145446Z
LAST-MODIFIED:20220921T145446Z
UID:event-245099-bham@intand.com
END:VEVENT
END:VCALENDAR
