BEGIN:VCALENDAR
VERSION:2.0
PRODID:-//Intand Corporation//Tandem//EN
METHOD:PUBLISH
BEGIN:VEVENT
DTSTAMP:20260422T111816Z
DTSTART:20220927T213000Z
DTEND:20220928T000000Z
TRANSP:TRANSPARENT
PRIORITY:0
SUMMARY:HV Trailblazers Club Session 1 
LOCATION:Happy Valley Offsite Event
DESCRIPTION:Grades 2-5\n\nSchools:\nHappy Valley Elementary School\n\nLoca
 tion:\nHappy Valley Offsite Event\n\n
URL;VALUE=URI:https://calendar.bellinghamschools.org/index.php?type=view&a
 ction=event&id=240549
CREATED:20220908T144630Z
LAST-MODIFIED:20220908T144630Z
UID:event-240549-bham@intand.com
END:VEVENT
END:VCALENDAR
