BEGIN:VCALENDAR
VERSION:2.0
PRODID:-//Intand Corporation//Tandem//EN
METHOD:PUBLISH
BEGIN:VEVENT
DTSTAMP:20260421T110322Z
DTSTART:20221021T213000Z
DTEND:20221022T010000Z
TRANSP:TRANSPARENT
PRIORITY:0
SUMMARY:YMCA After School Childcare
LOCATION:Alderwood Cafeteria\, Alderwood Gym\, Birchwood Cafeteria\, Birch
 wood Gym\, Carl Cozier Cafeteria\, Carl Cozier Gym\, Columbia Cafeteria/St
 age\, Columbia North Gym\, Cordata Cafeteria\, Cordata Gym\, Geneva Cafete
 ria\, Geneva Gym\, Happy
DESCRIPTION:Setup: 2:15 pm\nBreakdown: 6:15 pm\n\nSchools:\nCordata Elemen
 tary School\nWade King Elementary School\nNorthern Heights Elementary Scho
 ol\nBirchwood Elementary School\nParkview Elementary School\nSilver Beach 
 Elementary School\nRoosevelt Elementary School\nSunnyland Elementary Schoo
 l\nLowell Elementary School\nCarl Cozier Elementary School\nGeneva Element
 ary School\nAlderwood Elementary School\nHappy Valley Elementary School\nC
 olumbia Elementary School\n\nLocations:\nAlderwood Cafeteria\nAlderwood Gy
 m\nBirchwood Cafeteria\nBirchwood Gym\nCarl Cozier Cafeteria\nCarl Cozier 
 Gym\nColumbia Cafeteria/Stage\nColumbia North Gym\nCordata Cafeteria\nCord
 ata Gym\nGeneva Cafeteria\nGeneva Gym\nHappy Valley Cafeteria\nHappy Valle
 y Gym\nLowell Cafeteria\nLowell Gym\nNorthern Heights Cafeteria\nNorthern 
 Heights Gym\nParkview Cafeteria\nParkview Gym\nRoosevelt Gym\nRoosevelt Ca
 feteria\nSilver Beach Big Gym\nSilver Beach Cafeteria\nSunnyland Cafeteria
 \nSunnyland Gym\nWade King Cafeteria\nWade King Gym\n\n
URL;VALUE=URI:https://calendar.bellinghamschools.org/index.php?type=view&a
 ction=event&id=239733
CREATED:20220901T215908Z
LAST-MODIFIED:20220901T215908Z
UID:event-239733-bham@intand.com
END:VEVENT
END:VCALENDAR
