BEGIN:VCALENDAR
VERSION:2.0
PRODID:-//Intand Corporation//Tandem//EN
METHOD:PUBLISH
BEGIN:VEVENT
DTSTAMP:20260422T113936Z
DTSTART:20220929T194500Z
DTEND:20220929T213000Z
TRANSP:TRANSPARENT
PRIORITY:0
SUMMARY:NH - Girls on the Run
LOCATION:Northern Heights Fields
DESCRIPTION:Schools:\nNorthern Heights Elementary School\n\nLocation:\nNor
 thern Heights Fields\n\n
URL;VALUE=URI:https://calendar.bellinghamschools.org/index.php?type=view&a
 ction=event&id=237971
CREATED:20220823T200359Z
LAST-MODIFIED:20220823T200359Z
UID:event-237971-bham@intand.com
END:VEVENT
END:VCALENDAR
