BEGIN:VCALENDAR
VERSION:2.0
PRODID:-//Intand Corporation//Tandem//EN
METHOD:PUBLISH
BEGIN:VEVENT
DTSTAMP:20260421T104843Z
DTSTART:20230217T234500Z
DTEND:20230218T013000Z
TRANSP:TRANSPARENT
PRIORITY:0
SUMMARY:Middle School Girls Volleyball Practice 
LOCATION:Kulshan Gym North\, Fairhaven Gymnasium: East\, Shuksan Gym - Old
 \, Whatcom Gym 1\, Whatcom Gym 3
DESCRIPTION:Setup: 3:30 pm\nBreakdown: 6:00 pm\n\nSchools:\nShuksan Middle
  School\nWhatcom Middle School\nFairhaven Middle School\nKulshan Middle Sc
 hool\n\nLocations:\nKulshan Gym North\nFairhaven Gymnasium: East\nShuksan 
 Gym - Old\nWhatcom Gym 1\nWhatcom Gym 3\n\n
URL;VALUE=URI:https://calendar.bellinghamschools.org/index.php?type=view&a
 ction=event&id=236485
CREATED:20220811T212331Z
LAST-MODIFIED:20230111T175656Z
UID:event-236485-bham@intand.com
END:VEVENT
END:VCALENDAR
