BEGIN:VCALENDAR
VERSION:2.0
PRODID:-//Intand Corporation//Tandem//EN
METHOD:PUBLISH
BEGIN:VEVENT
DTSTAMP:20260422T102737Z
DTSTART:20250417T010000Z
DTEND:20250417T023000Z
TRANSP:TRANSPARENT
PRIORITY:0
SUMMARY:Chuckanut Tide Parent Info Session
LOCATION:Kulshan Commons
DESCRIPTION:Groups:\nChuckanut Tide Football Club\n\nSchools:\nKulshan Mid
 dle School\n\nLocation:\nKulshan Commons\n\n
URL;VALUE=URI:http://calendar.bellinghamschools.org/index.php?type=view&ac
 tion=event&id=319283
CREATED:20250328T171240Z
LAST-MODIFIED:20250505T165958Z
UID:facility_rental-319283-bham@intand.com
END:VEVENT
END:VCALENDAR
