BEGIN:VCALENDAR
VERSION:2.0
PRODID:-//Intand Corporation//Tandem//EN
METHOD:PUBLISH
BEGIN:VEVENT
DTSTAMP:20260422T101317Z
DTSTART:20250415T223000Z
DTEND:20250416T003000Z
TRANSP:TRANSPARENT
PRIORITY:0
SUMMARY:DO 102 & 203 Capital Levy Planning
LOCATION:District Office Room 103\, District Office Room 102 
DESCRIPTION:Schools:\nDistrict Office\n\nLocations:\nDistrict Office Room 
 103\nDistrict Office Room 102 \n\n
URL;VALUE=URI:http://calendar.bellinghamschools.org/index.php?type=view&ac
 tion=event&id=318645
CREATED:20250320T201006Z
LAST-MODIFIED:20250414T154423Z
UID:event-318645-bham@intand.com
END:VEVENT
END:VCALENDAR
