BEGIN:VCALENDAR
VERSION:2.0
PRODID:-//Intand Corporation//Tandem//EN
METHOD:PUBLISH
BEGIN:VEVENT
DTSTAMP:20260421T082921Z
DTSTART:20250311T010000Z
DTEND:20250311T030000Z
TRANSP:TRANSPARENT
PRIORITY:0
SUMMARY:SqHS Boys Basketball EOS Banquet
LOCATION:Squalicum Offsite Event
DESCRIPTION:District Office Room 202\n\n\nGroups:\nSQHS Freshmen\nSQHS Jun
 iors\nSQHS Senior\nSQHS Sophomores\n\nSchools:\nSqualicum High School\n\nL
 ocation:\nSqualicum Offsite Event\n\n
URL;VALUE=URI:http://calendar.bellinghamschools.org/index.php?type=view&ac
 tion=event&id=316662
CREATED:20250225T191114Z
LAST-MODIFIED:20250225T193402Z
UID:event_request-316662-bham@intand.com
END:VEVENT
END:VCALENDAR
