BEGIN:VCALENDAR
VERSION:2.0
PRODID:-//Intand Corporation//Tandem//EN
METHOD:PUBLISH
BEGIN:VEVENT
DTSTAMP:20260421T082927Z
DTSTART:20250310T223000Z
DTEND:20250310T233000Z
TRANSP:TRANSPARENT
PRIORITY:0
SUMMARY:Juggling Club
LOCATION:Sehome Theater
DESCRIPTION:Schools:\nSehome High School\n\nLocation:\nSehome Theater\n\n
URL;VALUE=URI:http://calendar.bellinghamschools.org/index.php?type=view&ac
 tion=event&id=302664
CREATED:20240918T175618Z
LAST-MODIFIED:20240918T175618Z
UID:event-302664-bham@intand.com
END:VEVENT
END:VCALENDAR
