BEGIN:VCALENDAR
VERSION:2.0
PRODID:-//Intand Corporation//Tandem//EN
METHOD:PUBLISH
BEGIN:VEVENT
DTSTAMP:20260421T095416Z
DTSTART:20240819T160000Z
DTEND:20240820T000000Z
TRANSP:TRANSPARENT
PRIORITY:0
SUMMARY:[Cancelled] HOLD DO 103: BPS BASE Bargaining
LOCATION:District Office Room 103
DESCRIPTION:Schools:\nDistrict Office\n\nLocation:\nDistrict Office Room 1
 03\n\n
URL;VALUE=URI:http://calendar.bellinghamschools.org/index.php?type=view&ac
 tion=event&id=296085
CREATED:20240628T193750Z
LAST-MODIFIED:20240806T133358Z
UID:event-296085-bham@intand.com
END:VEVENT
END:VCALENDAR
