BEGIN:VCALENDAR
VERSION:2.0
PRODID:-//Intand Corporation//Tandem//EN
METHOD:PUBLISH
BEGIN:VEVENT
DTSTAMP:20260421T095359Z
DTSTART:20240820T000000Z
DTEND:20240820T033000Z
TRANSP:TRANSPARENT
PRIORITY:0
SUMMARY:SqHS Mentor Training
LOCATION:Squalicum Classroom D205\, Squalicum Classroom D204
DESCRIPTION:Schools:\nSqualicum High School\n\nLocations:\nSqualicum Class
 room D205\nSqualicum Classroom D204\n\n
URL;VALUE=URI:http://calendar.bellinghamschools.org/index.php?type=view&ac
 tion=event&id=295018
CREATED:20240619T202143Z
LAST-MODIFIED:20240619T202143Z
UID:event-295018-bham@intand.com
END:VEVENT
END:VCALENDAR
