BEGIN:VCALENDAR
VERSION:2.0
PRODID:-//Intand Corporation//Tandem//EN
METHOD:PUBLISH
BEGIN:VEVENT
DTSTAMP:20260421T095506Z
DTSTART;VALUE=DATE:20240629
DTEND;VALUE=DATE:20240630
TRANSP:TRANSPARENT
PRIORITY:0
SUMMARY:Kulshan Construction 
LOCATION:Kulshan Middle School
DESCRIPTION:Schools:\nKulshan Middle School\n\nLocation:\nKulshan Middle S
 chool\n\n
URL;VALUE=URI:http://calendar.bellinghamschools.org/index.php?type=view&ac
 tion=event&id=294662
CREATED:20240617T170503Z
LAST-MODIFIED:20240617T170503Z
UID:event-294662-bham@intand.com
END:VEVENT
END:VCALENDAR
