BEGIN:VCALENDAR
VERSION:2.0
PRODID:-//Intand Corporation//Tandem//EN
METHOD:PUBLISH
BEGIN:VEVENT
DTSTAMP:20260421T082803Z
DTSTART;VALUE=DATE:20240819
DTEND;VALUE=DATE:20240820
TRANSP:TRANSPARENT
PRIORITY:0
SUMMARY:FMS open 9-12/1:30-3:30
LOCATION:Fairhaven Middle School
DESCRIPTION:Schools:\nFairhaven Middle School\n\nLocation:\nFairhaven Midd
 le School\n\n
URL;VALUE=URI:http://calendar.bellinghamschools.org/index.php?type=view&ac
 tion=event&id=294282
CREATED:20240612T220731Z
LAST-MODIFIED:20240612T220751Z
UID:event-294282-bham@intand.com
END:VEVENT
END:VCALENDAR
