BEGIN:VCALENDAR
VERSION:2.0
PRODID:-//Intand Corporation//Tandem//EN
METHOD:PUBLISH
BEGIN:VEVENT
DTSTAMP:20260420T100314Z
DTSTART:20231024T213000Z
DTEND:20231024T230000Z
TRANSP:TRANSPARENT
PRIORITY:0
SUMMARY:Sword Skirmish - (ASE)
LOCATION:Carl Cozier Covered Play Shed
DESCRIPTION:Grades 1-5\n\n\nSchools:\nCarl Cozier Elementary School\n\nLoc
 ation:\nCarl Cozier Covered Play Shed\n\n
URL;VALUE=URI:http://calendar.bellinghamschools.org/index.php?type=view&ac
 tion=event&id=279104
CREATED:20231011T211320Z
LAST-MODIFIED:20231011T211320Z
UID:event-279104-bham@intand.com
END:VEVENT
END:VCALENDAR
