BEGIN:VCALENDAR
VERSION:2.0
PRODID:-//Intand Corporation//Tandem//EN
METHOD:PUBLISH
BEGIN:VEVENT
DTSTAMP:20260421T082921Z
DTSTART:20230911T180000Z
DTEND:20230911T184500Z
TRANSP:TRANSPARENT
PRIORITY:0
SUMMARY:DO 114 HCL Student Learning Plan Overview DNP
LOCATION:District Office Conference Room 114
DESCRIPTION:Schools:\nDistrict Office\n\nLocation:\nDistrict Office Confer
 ence Room 114\n\n
URL;VALUE=URI:http://calendar.bellinghamschools.org/index.php?type=view&ac
 tion=event&id=269240
CREATED:20230829T224134Z
LAST-MODIFIED:20230905T193335Z
UID:event_request-269240-bham@intand.com
END:VEVENT
END:VCALENDAR
