BEGIN:VCALENDAR
VERSION:2.0
PRODID:-//Intand Corporation//Tandem//EN
METHOD:PUBLISH
BEGIN:VEVENT
DTSTAMP:20260421T082621Z
DTSTART:20230913T010000Z
DTEND:20230913T030000Z
TRANSP:TRANSPARENT
PRIORITY:0
SUMMARY:Volleyball Team Gathering
LOCATION:Sehome Commons
DESCRIPTION:Schools:\nSehome High School\n\nLocation:\nSehome Commons\n\n
URL;VALUE=URI:http://calendar.bellinghamschools.org/index.php?type=view&ac
 tion=event&id=268960
CREATED:20230828T194822Z
LAST-MODIFIED:20230828T194822Z
UID:event-268960-bham@intand.com
END:VEVENT
END:VCALENDAR
